BEGIN:VCALENDAR
VERSION:2.0
PRODID:-//wp-events-plugin.com//7.2.3.1//EN
TZID:America/Los_Angeles
X-WR-TIMEZONE:America/Los_Angeles
BEGIN:VEVENT
UID:756@pdxvelo.com
DTSTART;TZID=America/Los_Angeles:20260425T090000
DTEND;TZID=America/Los_Angeles:20260425T090000
DTSTAMP:20260421T040920Z
URL:https://www.pdxvelo.com/events/pv-saturday-ride-04-25-2026/
SUMMARY:PV - Saturday Ride
DESCRIPTION:\n\n\n\n\n\n\n\n\nRead the Club’s liability waiver and unders
 tand that your participation in a ride constitutes acceptance of the waive
 r. The waiver is found&nbsp\;here.\n\n\n\nBefore you join ANY PV ride\, re
 ad this page which spells out what is expected from you.\n\n\n\nYou are al
 so expected to abide by the Portland Velo&nbsp\;Code of Conduct\n\n\n\nIf 
 you are not a Portland Velo member and want to join us for a ride\, use th
 e Contact page to request links and maps sent via email.\n\n\n\n\n\n\n\nTh
 e forecast is temperature from 53°F to 63℉\, sunny and light breezes.\n
 \n\n\nLinks to the routes and maps: (you must be logged in and have active
  membership to see this next section)\n\n\n\n[pms-restrict subscription_pl
 ans="202"]\n\n\n\n\nMain Route: Clark Holly Unger Dober cw (46.8 miles\, 2
 479 ft). Map/Cue\n\n\n\nShort Route: Unger Dober cw (32.5 miles\, 1228 ft)
 . Map/Cue\n\n\n\nWarning:&nbsp\;To be able to view the routes on RwGPS you
  must have accepted the invitation to&nbsp\;join the Portland Velo Club on
  RwGPS.\n\n\n\nNote that not all speed groups may have ride leaders for al
 l routes.\n\n\n\nPlease be sure to download the appropriate GPS file to yo
 ur computer. That rider off the front of the group may not know where they
  are going. Follow the link to the RwGPS site and download the GPS file ap
 propriate for your computer from there. And print the map/cue sheet. Let's
  try to avoid the collapse into one large group because only 1-2 people ha
 ve the route. Protect yourself. See the cue sheet for caution areas.\n\n\n
 \nRoute names are often reused with minor changes to the route. Do not ass
 ume an old map or GPS file reflects the current route.\n\n\n\nAlso note yo
 u can download the free RwGPS app to your smart phone\, access the route t
 hrough it and follow the route on your cell phone. See details under "RwGP
 S app usage".\n\n\n\n\n\n\n\n\n\n\n\n\n\n\n\nThe main route in red and the
  shortcut for the short route in blue. Click on the image to bring up the 
 event routes in RwGPS.\n\n\n\n\n\nNote: you must have activated your club 
 membership on RwGPS to view the RwGPS event. Activate your club membership
  by following this link.\n\n\n\n\n[/pms-restrict]\n\n\n\nPortland Velo Sat
 urday rides start from Evergreen Park. See the Parking Map.\n\n\n\n\n\n\n\
 n\n\n\n\n\n
ATTACH;FMTTYPE=image/jpeg:https://www.pdxvelo.com/wp-content/uploads/2024/
 02/IMG_3716_2-scaled.jpg
CATEGORIES:Ops
END:VEVENT
BEGIN:VTIMEZONE
TZID:America/Los_Angeles
X-LIC-LOCATION:America/Los_Angeles
BEGIN:DAYLIGHT
DTSTART:20260308T030000
TZOFFSETFROM:-0800
TZOFFSETTO:-0700
TZNAME:PDT
END:DAYLIGHT
END:VTIMEZONE
END:VCALENDAR