BEGIN:VCALENDAR
VERSION:2.0
PRODID:-//wp-events-plugin.com//7.2.3.1//EN
TZID:America/Los_Angeles
X-WR-TIMEZONE:America/Los_Angeles
BEGIN:VEVENT
UID:25@pdxvelo.com
DTSTART;TZID=America/Los_Angeles:20230304T090000
DTEND;TZID=America/Los_Angeles:20230304T090000
DTSTAMP:20230227T024204Z
URL:https://www.pdxvelo.com/events/pv-ride-flat-47-7-cw-47-7-miles-1399-ft
 /
SUMMARY:PV Ride - Flat 47.7 cw (47.7 miles\, 1399 ft)
DESCRIPTION:The forecast is for temperatures from 37F to 40F\, overcast wit
 h light rain.\n\nMain Route: Flat 47.7 cw (47.7 miles\, 1399 ft). Map\n\n
 Short Route: Flat 39.4 cw (39.4 miles\, 1017 ft). Map\n\nNote that not all
  speed groups may have ride leaders for all routes.\n\nPlease be sure to d
 ownload the appropriate GPS file to your computer. That rider off the fron
 t of the group may not know where he's going.  Please follow the link to 
 the RwGPS site and download the GPS file appropriate for your computer fro
 m there. And print the map/cue sheet. Let's try to avoid the collapse into
  one large group because only 1-2 people have the route.\n\nAlso note you 
 can download the free RwGPS app to your smart phone\, access the route thr
 ough it and follow the route on your cell phone. See details under "RwGPS 
 app usage".\n\nSee the cue sheet for caution areas.\n\n&nbsp\;\n\nThe main
  route in blue and the cutoffs for the short route in red. Unfortunately t
 his image is static but this link goes to an interactive version of the 
 route display. Or follow the links below to go to the routes at RwGPS.\n\n
 &nbsp\;\n\n\n\nNote that not all speed groups may have ride leaders for al
 l routes.\n\nPlease be sure to download the appropriate GPS file to your c
 omputer. And print the map/cue sheet. Let's try to avoid the collapse into
  one large group because only 1-2 people have the route. Also be aware tha
 t rider you are following who is off the front of the group may not know w
 here he is going. Protect yourself.\n\nRoute names are often reused with m
 inor changes to the route. Do not assume an old map or GPS file reflects t
 he current route.\n\nPortland Velo Saturday rides start at 9:00 AM from Ev
 ergreen Park. See the Parking Map.
ATTACH;FMTTYPE=image/jpeg:https://www.pdxvelo.com/wp-content/uploads/2023/
 02/PV_group-e1676497293357.jpg
CATEGORIES:Ops
END:VEVENT
BEGIN:VTIMEZONE
TZID:America/Los_Angeles
X-LIC-LOCATION:America/Los_Angeles
BEGIN:STANDARD
DTSTART:20221106T010000
TZOFFSETFROM:-0700
TZOFFSETTO:-0800
TZNAME:PST
END:STANDARD
END:VTIMEZONE
END:VCALENDAR