BEGIN:VCALENDAR
VERSION:2.0
PRODID:-//wp-events-plugin.com//7.2.3.1//EN
TZID:America/Los_Angeles
X-WR-TIMEZONE:America/Los_Angeles
BEGIN:VEVENT
UID:443@pdxvelo.com
DTSTART;TZID=America/Los_Angeles:20240215T100000
DTEND;TZID=America/Los_Angeles:20240215T110000
DTSTAMP:20250215T042930Z
URL:https://www.pdxvelo.com/events/pv-ride-canceled-02-15-2025/
SUMMARY:PV - Ride 02/15/2025 CANCELED
DESCRIPTION:\n\n\n\n \nThe Portland Velo Ride originally scheduled for 02/
 15/2025 has been canceled due to forecast inclement weather.\nEDIT NEXT LI
 NE WITH BRIEF WEATHER FORECAST\nThe existing snow pack will continue ti me
 lt through the weekend.\nThe Portland Velo Operations Team takes the safet
 y of our riders very seriously. And by canceling this ride we also reduce 
 the hazards local drivers need to contend with during inclement weather.\n
 Please join us for a ride in the future.
ATTACH;FMTTYPE=image/jpeg:https://www.pdxvelo.com/wp-content/uploads/2024/
 01/CANCELLED_01.png
CATEGORIES:Ops
END:VEVENT
BEGIN:VTIMEZONE
TZID:America/Los_Angeles
X-LIC-LOCATION:America/Los_Angeles
BEGIN:STANDARD
DTSTART:20231105T010000
TZOFFSETFROM:-0700
TZOFFSETTO:-0800
TZNAME:PST
END:STANDARD
END:VTIMEZONE
END:VCALENDAR