BEGIN:VCALENDAR
VERSION:2.0
PRODID:-//wp-events-plugin.com//7.2.3.1//EN
TZID:America/Los_Angeles
X-WR-TIMEZONE:America/Los_Angeles
BEGIN:VEVENT
UID:755@pdxvelo.com
DTSTART;TZID=America/Los_Angeles:20260426T090000
DTEND;TZID=America/Los_Angeles:20260426T130000
DTSTAMP:20260421T014611Z
URL:https://www.pdxvelo.com/events/2026-04-06-pv-sunday-adventure-ride/
SUMMARY:PV - Sunday Adventure Ride
DESCRIPTION:\n\n\n\n\n\n\n\n\nNote the start time has changed to 9 am for S
 pring\n\n\n\nAlternate start location!\n\n\n\n\n\n\n\nRead the Club’s li
 ability waiver and understand that your participation in a ride constitute
 s acceptance of the waiver. The waiver is found&nbsp\;here.\n\n\n\nBefore 
 you join ANY PV ride\, read this page which spells out what is expected fr
 om you.\n\n\n\nYou are also expected to abide by the Portland Velo&nbsp\;C
 ode of Conduct\n\n\n\nThis Sunday the club is offering another "Adventure 
 Ride". These rides will be starting and ending from a remote location and 
 ride roads most of us have never had a chance to ride. Since the weather l
 ooks nice this Sunday\, we decided to plan this ride starting from the Joh
 n F Kennedy High School in Mt. Angel\, OR at 890 E Marquam St\, Mt Angel\,
  OR 97362  \n\n\n\nIf you are not a Portland Velo member and want to join 
 us for a ride\, use the Contact page to request links and maps sent via em
 ail.\n\n\n\nLink to the route: (you must be logged in and have active memb
 ership to see this next section)\n\n\n\n[pms-restrict subscription_plans="
 202"]\n\n\n\n\nRoute: Mt Angel to Silver Falls (50.6 Miles\, 3\,307 ft)\n\
 n\n\nWarning:&nbsp\;If you have trouble viewing these PV routes on RwGPS u
 se the following link to&nbsp\;join the Portland Velo Club on RwGPS.\n\n\n
 \n[/pms-restrict]\n\n\n\n\nBe sure to read the documents on the Portland V
 elo website before joining the group for the first time as this ride will 
 follow all the guidelines and rules that are expected on the Saturday Sign
 ature Ride. Please be sure to download the appropriate GPS file to your co
 mputer. Follow the link to RwGPS site to download the GPS file appropriate
  for your device from there\, you can also print the cue sheet from there.
  Protect yourself.\n\n\n\n\n\n\n\nThis Sunday's Ride begins from John F. K
 ennedy High School at 890 E Marquam St\, Mt Angel\, OR 97362. Park in the 
 highlighted area below.\n\n\n\nScreenshot\n\n\n\n\n
ATTACH;FMTTYPE=image/jpeg:https://www.pdxvelo.com/wp-content/uploads/2023/
 08/IMG_0383-scaled.jpg
CATEGORIES:PV Ride
END:VEVENT
BEGIN:VTIMEZONE
TZID:America/Los_Angeles
X-LIC-LOCATION:America/Los_Angeles
BEGIN:DAYLIGHT
DTSTART:20260308T030000
TZOFFSETFROM:-0800
TZOFFSETTO:-0700
TZNAME:PDT
END:DAYLIGHT
END:VTIMEZONE
END:VCALENDAR